BEGIN:VCALENDAR
PRODID:69e5dfffea8c3
VERSION:2.0
METHOD:PUBLISH
BEGIN:VEVENT
DTSTART:20250312T090000
DTEND:20250312T100000
LOCATION:
TRANSP:OPAQUE
SEQUENCE:0
UID:69e5dfffea8c3
DTSTAMP:20260420T081247Z
SUMMARY:Spracovanie SNMP trapov v Zabbixe
DESCRIPTION:
PRIORITY:1
CLASS:PUBLIC
BEGIN:VALARM
TRIGGER:-PT10080M
ACTION:DISPLAY
DESCRIPTION:
END:VALARM
END:VEVENT
END:VCALENDAR
